BEGIN:VCALENDAR
VERSION:2.0
PRODID:-//eventon.com NONSGML v1.0//EN
CALSCALE:GREGORIAN
METHOD:PUBLISH
BEGIN:VEVENT
UID:69eb28d00f16c
DTSTAMP:20260424T082448Z
DTSTART:20250215T103000Z
DTEND:20250215T130000Z
LOCATION:Feuerwehrgerätehaus Strümpfelbrunn Alte Marktstraße 28b - 69429 Waldbrunn-Strümpfelbrunn
SUMMARY:Grünkohlessen bei der FFW Strümpfelbrunn
DESCRIPTION:_(Symbolbild - KatharinaN./Pixabay)_\nhttps://www.katzenpfad.de
 /events/gruenkohlessen-bei-der-ffw-struempfelbrunn/
URL:https://www.katzenpfad.de/events/gruenkohlessen-bei-der-ffw-struempfelbrunn/
END:VEVENT
END:VCALENDAR