BEGIN:VCALENDAR
VERSION:2.0
PRODID:-//eventon.com NONSGML v1.0//EN
CALSCALE:GREGORIAN
METHOD:PUBLISH
BEGIN:VEVENT
UID:69e75cf48012b
DTSTAMP:20260421T111812Z
DTSTART:20230525
DTEND:20230526
LOCATION:Waldbrunn-Waldkatzenbach
SUMMARY:Abholung - Bioenergietonne
DESCRIPTION:Leerungserinnerung\nhttps://www.katzenpfad.de/events/bioenergie
 tonne-2/
URL:https://www.katzenpfad.de/events/bioenergietonne-2/
END:VEVENT
END:VCALENDAR