BEGIN:VCALENDAR
VERSION:2.0
PRODID:-//eventon.com NONSGML v1.0//EN
CALSCALE:GREGORIAN
METHOD:PUBLISH
BEGIN:VEVENT
UID:69e75cf244321
DTSTAMP:20260421T111810Z
DTSTART:20240412T130000Z
DTEND:20240412T150000Z
LOCATION:Geobiologischer Lehr- und Übungsgarten Zu den Kuranlagen\,  69429 Waldbrunn-Strümpfelbrunn
SUMMARY:Schnupperkurs im Rutengehen
DESCRIPTION:In Zusammenarbeit mit der Tourist-Information Waldbrunn veranst
 alten der Verein für Geobiologie eine zweistündige Einführung in die G
 eobiologie Nach einer kurzen Einführung in die Grundlagen von Geobiologie
  und Rutengehen haben die Teilnehmer Gelegenheit\,  ihre Rutenfühligkeit 
 bei Wasseradern und Verwerfungen zu testen. Die dabei zum Einsatz kommenden
  Wünschelruten können dafür ausgeliehen oder[..]\nhttps://www.katzenpfa
 d.de/events/schnupperkurs_im_rutengehen/
URL:https://www.katzenpfad.de/events/schnupperkurs_im_rutengehen/
END:VEVENT
END:VCALENDAR