BEGIN:VCALENDAR
VERSION:2.0
PRODID:-//eventon.com NONSGML v1.0//EN
CALSCALE:GREGORIAN
METHOD:PUBLISH
BEGIN:VEVENT
UID:69e75cab0d75e
DTSTAMP:20260421T111659Z
DTSTART:20230430T180000Z
DTEND:20230501T010000Z
LOCATION:Sportgelände VfR Waldkatzenbach Eberbacher Weg 6\,  69429 Waldbrunn-Waldkatzenbach
SUMMARY:Vul-Cane - Tanz auf dem Vulkan
DESCRIPTION:Beim FSV Waldbrunn ist in der Walpurgisnacht\,  auf dem Sportge
 lände in Waldkatzenbach\,  wieder Party-Time angesagt. Die Party beginnt a
 m 30. April\,  um 20:00 Uhr und dauert bis in die frühen Morgenstunden des
  Maifeiertags. Der Eintritt kostet zwischen 20:00 und 22:00 Uhr 5 Euro\,  d
 anach kostet es 7 Euro.\nhttps://www.katzenpfad.de/events/vulcane-tanz-auf-
 dem-vulkan/
URL:https://www.katzenpfad.de/events/vulcane-tanz-auf-dem-vulkan/
END:VEVENT
END:VCALENDAR