BEGIN:VCALENDAR
VERSION:2.0
PRODID:-//eventon.com NONSGML v1.0//EN
CALSCALE:GREGORIAN
METHOD:PUBLISH
BEGIN:VEVENT
UID:69e75caa98d35
DTSTAMP:20260421T111658Z
DTSTART:20240222T180000Z
DTEND:20240222T200000Z
LOCATION:TC Waldbrunn Paradiesecke 197\,  69429 Waldbrunn
SUMMARY:Generalversammlung  Tennisclub Waldbrunn
DESCRIPTION:(Symbolbild - Hans Dietmann/Pixabay) Einladung zur Generalversa
 mmlung  des TC Waldbrunn am Donnerstag\,  22. Februar 2024\,  um 19.00 Uhr
 \,  Vereinsheim. Tagesordnung: Begrüßung Bericht Vorstandschaft Bericht d
 er Kassenwartin und des Kassenprüfers Entlastung der Vorstandschaft Neuwah
 len: 2. Vorstand\,  Kassenwart(*in)\,  Sportwart(*in) Ausblick 2024 Jubilä
 um Verschiedenes Ergänzende Anträge zur Tagesordnung sind bis spätestens
  17. Februar[..]\nhttps://www.katzenpfad.de/events/generalversammlung-tenni
 sclub-waldbrunn/
URL:https://www.katzenpfad.de/events/generalversammlung-tennisclub-waldbrunn/
END:VEVENT
END:VCALENDAR